BEGIN:VCALENDAR
VERSION:2.0
PRODID:-//Dr. Mikel Maria Delgado PhD - ECPv6.15.20//NONSGML v1.0//EN
CALSCALE:GREGORIAN
METHOD:PUBLISH
X-ORIGINAL-URL:https://mikeldelgado.com
X-WR-CALDESC:Events for Dr. Mikel Maria Delgado PhD
REFRESH-INTERVAL;VALUE=DURATION:PT1H
X-Robots-Tag:noindex
X-PUBLISHED-TTL:PT1H
BEGIN:VTIMEZONE
TZID:America/Los_Angeles
BEGIN:DAYLIGHT
TZOFFSETFROM:-0800
TZOFFSETTO:-0700
TZNAME:PDT
DTSTART:20200308T100000
END:DAYLIGHT
BEGIN:STANDARD
TZOFFSETFROM:-0700
TZOFFSETTO:-0800
TZNAME:PST
DTSTART:20201101T090000
END:STANDARD
BEGIN:DAYLIGHT
TZOFFSETFROM:-0800
TZOFFSETTO:-0700
TZNAME:PDT
DTSTART:20210314T100000
END:DAYLIGHT
BEGIN:STANDARD
TZOFFSETFROM:-0700
TZOFFSETTO:-0800
TZNAME:PST
DTSTART:20211107T090000
END:STANDARD
BEGIN:DAYLIGHT
TZOFFSETFROM:-0800
TZOFFSETTO:-0700
TZNAME:PDT
DTSTART:20220313T100000
END:DAYLIGHT
BEGIN:STANDARD
TZOFFSETFROM:-0700
TZOFFSETTO:-0800
TZNAME:PST
DTSTART:20221106T090000
END:STANDARD
END:VTIMEZONE
BEGIN:VEVENT
DTSTART;VALUE=DATE:20210520
DTEND;VALUE=DATE:20210521
DTSTAMP:20260422T180711
CREATED:20201119T002538Z
LAST-MODIFIED:20201119T002538Z
UID:236-1621468800-1621555199@mikeldelgado.com
SUMMARY:Shelter Playgroup Alliance Shelter Behavior and Enrichment Conference
DESCRIPTION:Join us a day before the SPA 2021 Shelter Behavior and Enrichment Conference for a special option on Thursday\, May 20\, 2021. \nImmerse yourself in feline behavior during a full day deep dive with Mikel Delgado\, PhD.  Mikel is a cat behavior consultant and co-founder of Feline Minds. Mikel’s deep knowledge and expertise in feline behavior will include the following topics: \n\n\nReducing stress for shelter cats \n\nPlay behavior in cats\n\nProblem behaviors​ \n\n\nLitter box blues \n\n\nMulti cat households \n\n\nCase studies\n \n\n\n\n\n​Not to be missed! \nCost: $50.00
URL:https://mikeldelgado.com/event/shelter-playgroup-alliance-shelter-behavior-and-enrichment-conference/
ATTACH;FMTTYPE=image/jpeg:https://mikeldelgado.com/wp-content/uploads/2020/11/7c885c_44b422686ae64b1f8b590e51f434d0ae_mv2.jpg
END:VEVENT
END:VCALENDAR