BEGIN:VCALENDAR
VERSION:2.0
PRODID:-//Dr. Mikel Maria Delgado PhD - ECPv6.15.20//NONSGML v1.0//EN
CALSCALE:GREGORIAN
METHOD:PUBLISH
X-ORIGINAL-URL:https://mikeldelgado.com
X-WR-CALDESC:Events for Dr. Mikel Maria Delgado PhD
REFRESH-INTERVAL;VALUE=DURATION:PT1H
X-Robots-Tag:noindex
X-PUBLISHED-TTL:PT1H
BEGIN:VTIMEZONE
TZID:America/Los_Angeles
BEGIN:DAYLIGHT
TZOFFSETFROM:-0800
TZOFFSETTO:-0700
TZNAME:PDT
DTSTART:20230312T100000
END:DAYLIGHT
BEGIN:STANDARD
TZOFFSETFROM:-0700
TZOFFSETTO:-0800
TZNAME:PST
DTSTART:20231105T090000
END:STANDARD
BEGIN:DAYLIGHT
TZOFFSETFROM:-0800
TZOFFSETTO:-0700
TZNAME:PDT
DTSTART:20240310T100000
END:DAYLIGHT
BEGIN:STANDARD
TZOFFSETFROM:-0700
TZOFFSETTO:-0800
TZNAME:PST
DTSTART:20241103T090000
END:STANDARD
BEGIN:DAYLIGHT
TZOFFSETFROM:-0800
TZOFFSETTO:-0700
TZNAME:PDT
DTSTART:20250309T100000
END:DAYLIGHT
BEGIN:STANDARD
TZOFFSETFROM:-0700
TZOFFSETTO:-0800
TZNAME:PST
DTSTART:20251102T090000
END:STANDARD
BEGIN:DAYLIGHT
TZOFFSETFROM:-0800
TZOFFSETTO:-0700
TZNAME:PDT
DTSTART:20260308T100000
END:DAYLIGHT
BEGIN:STANDARD
TZOFFSETFROM:-0700
TZOFFSETTO:-0800
TZNAME:PST
DTSTART:20261101T090000
END:STANDARD
BEGIN:DAYLIGHT
TZOFFSETFROM:-0800
TZOFFSETTO:-0700
TZNAME:PDT
DTSTART:20270314T100000
END:DAYLIGHT
BEGIN:STANDARD
TZOFFSETFROM:-0700
TZOFFSETTO:-0800
TZNAME:PST
DTSTART:20271107T090000
END:STANDARD
END:VTIMEZONE
BEGIN:VEVENT
DTSTART;TZID=America/Los_Angeles:20240803T100000
DTEND;TZID=America/Los_Angeles:20240803T170000
DTSTAMP:20260422T181042
CREATED:20240716T214806Z
LAST-MODIFIED:20240716T214904Z
UID:4391-1722679200-1722704400@mikeldelgado.com
SUMMARY:Join me IN PERSON at CatCon!!
DESCRIPTION:I’ll be at Booth 603\, signing copies of Play With Your Cat! on Saturday\, August 3rd\, 2024. I’ll be hanging out with author/illustrator Lili Chin (who also illustrated Play With Your Cat!). Come meet us both!! Details at CatCon (catconworldwide.com) \nCatCon \nPasadena Convention Center \n300 East Green Street Pasadena\, CA 91101
URL:https://mikeldelgado.com/event/join-me-in-person-at-catcon/
END:VEVENT
BEGIN:VEVENT
DTSTART;VALUE=DATE:20250220
DTEND;VALUE=DATE:20250223
DTSTAMP:20260422T181042
CREATED:20241108T190746Z
LAST-MODIFIED:20241108T191553Z
UID:5200-1740009600-1740268799@mikeldelgado.com
SUMMARY:Midwest Veterinary Conference
DESCRIPTION:I’ll be giving SIX talks about cat behavior at the Midwest Veterinary Conference \n  \nFeb. 20-22\, 2025 // Greater Columbus Convention Center // Columbus\, Ohio \n\nmvcinfo.org \n\n 
URL:https://mikeldelgado.com/event/midwest-veterinary-conference/
ATTACH;FMTTYPE=image/jpeg:https://mikeldelgado.com/wp-content/uploads/2024/11/mvc2.jpeg
END:VEVENT
BEGIN:VEVENT
DTSTART;VALUE=DATE:20250509
DTEND;VALUE=DATE:20250512
DTSTAMP:20260422T181042
CREATED:20241108T191118Z
LAST-MODIFIED:20241108T191628Z
UID:5205-1746748800-1747007999@mikeldelgado.com
SUMMARY:IAABC Foundation Animal Behavior Conference
DESCRIPTION:I will be giving two talks about cat behavior at the International Association of Animal Behavior Consultants Conference \nMay 9 – 11\, 2025 The Antlers\, a Wyndham Hotel Colorado Springs\, Colorado\, USA \n  \niaabcfoundation.org/animal-behavior-conference/
URL:https://mikeldelgado.com/event/iaabc-foundation-animal-behavior-conference-2/
ATTACH;FMTTYPE=image/png:https://mikeldelgado.com/wp-content/uploads/2024/11/01_IAABC_FoundationLogo-02-1.png
END:VEVENT
BEGIN:VEVENT
DTSTART;VALUE=DATE:20250627
DTEND;VALUE=DATE:20250630
DTSTAMP:20260422T181042
CREATED:20241108T191443Z
LAST-MODIFIED:20241108T191803Z
UID:5209-1750982400-1751241599@mikeldelgado.com
SUMMARY:iCatCare World Feline Congress\, Edinburgh\, Scotland
DESCRIPTION:The 2025 iCatCare World Feline Congress will take place at the Edinburgh International Conference Centre from June 27-29th\, 2025! I will be there giving multiple presentations and serving on multiple panels. 
URL:https://mikeldelgado.com/event/icatcare-world-feline-congress-edinburgh-scotland/
ATTACH;FMTTYPE=image/jpeg:https://mikeldelgado.com/wp-content/uploads/2024/11/icatcare.jpg
END:VEVENT
BEGIN:VEVENT
DTSTART;TZID=America/Los_Angeles:20251010T173000
DTEND;TZID=America/Los_Angeles:20251010T203000
DTSTAMP:20260422T181042
CREATED:20250903T202556Z
LAST-MODIFIED:20250903T202824Z
UID:10544-1760117400-1760128200@mikeldelgado.com
SUMMARY:Hot Science: Cool Talks - How to Make Your Cat Love You. With Science!
DESCRIPTION:“How to Make Your Cat Love You. With Science!” on Oct 10th \nPurrfect! Dr. Mikel Delgado shares how to play and bond with your cat\, backed by science. Cool Activities start at 5:30 PM and the talk starts at 7:00 PM!
URL:https://mikeldelgado.com/event/hot-science-cool-talks-how-to-make-your-cat-love-you-with-science/
LOCATION:University of Texas at Austin\, Austin\, TX\, United States
ATTACH;FMTTYPE=image/jpeg:https://mikeldelgado.com/wp-content/uploads/2025/05/29452.Aria_.head2_.jpg-scaled.jpg
END:VEVENT
BEGIN:VEVENT
DTSTART;VALUE=DATE:20251101
DTEND;VALUE=DATE:20251103
DTSTAMP:20260422T181042
CREATED:20250903T203309Z
LAST-MODIFIED:20250903T203309Z
UID:10547-1761955200-1762127999@mikeldelgado.com
SUMMARY:Pounce 2025: Identifying and overcoming cat caregiver barriers to daily interactive play with cats
DESCRIPTION:POUNCE! 2025: Two Days of Cat-Centered Learning\, Wherever You Curl Up\n\nGet ready to pounce into knowledge! Join us for POUNCE! 2025\, the fifth annual virtual gathering that celebrates all things feline — from cutting-edge science and behavior to hands-on training and veterinary care.\nOver the course of two inspiring days — Saturday\, November 1st and Sunday\, November 2nd\, 2025 — you’ll hear from leading experts and researchers who share not just data\, but real-world strategies that make a difference in the lives of cats and the people who love them.\n\nWhere: Online so that you can tune in from anywhere — your office\, your couch\, or your coziest cat-friendly corner.\nPOUNCE! has become a must-attend event for professionals working with cats. Each year\, we bring together practical know-how\, fresh research\, and the latest trends in feline welfare. Join CAAB\, VB\, and PhD speakers\, including Mikel Delgado\, Kristyn Vitale\, Zazie Todd\, and other top-tier professionals in the field.
URL:https://mikeldelgado.com/event/pounce-2025-identifying-and-overcoming-cat-caregiver-barriers-to-daily-interactive-play-with-cats/
ATTACH;FMTTYPE=image/jpeg:https://mikeldelgado.com/wp-content/uploads/2025/09/pounce2025.1.jpg
END:VEVENT
BEGIN:VEVENT
DTSTART;VALUE=DATE:20260424
DTEND;VALUE=DATE:20260427
DTSTAMP:20260422T181042
CREATED:20260306T200355Z
LAST-MODIFIED:20260306T201213Z
UID:11678-1776988800-1777247999@mikeldelgado.com
SUMMARY:Chronic Pain Symposium 2026: "Grumpy or Painful? How behaviour professionals can recognise and help cats in pain"
DESCRIPTION:  \n \nJoin me at this year’s Chronic Pain Symposium! I’ll be speaking on Saturday\, April 25th\, and there are tons of fabulous speakers!
URL:https://mikeldelgado.com/event/chronic-pain-symposium-2026/
ATTACH;FMTTYPE=image/jpeg:https://mikeldelgado.com/wp-content/uploads/2026/03/cps2026.jpg
END:VEVENT
BEGIN:VEVENT
DTSTART;VALUE=DATE:20261003
DTEND;VALUE=DATE:20261004
DTSTAMP:20260422T181042
CREATED:20260306T200855Z
LAST-MODIFIED:20260306T201121Z
UID:11681-1790985600-1791071999@mikeldelgado.com
SUMMARY:Online Cat Behaviour Conference: "Have a good time\, all the time: How play and enrichment improve cat welfare"
DESCRIPTION:  \n  \n  \n  \n  \n  \nWelcome to the Cat Behavior Conference\, the ultimate\nonline event for cat professionals\, volunteers\, guardians\,\nand lovers worldwide! Join us as we explore the latest\nresearch\, expert insights\, and practical behaviour\nmodification and training techniques to better\nunderstand and support our feline friends. With live\npresentations\, interactive Q&A sessions\, and virtual\nnetworking opportunities\, don’t miss your chance to\nlearn\, connect\, and help improve the mental and\nemotional well-being of the cats you work\, volunteer or\nlive with – all from the comfort of your home!
URL:https://mikeldelgado.com/event/online-cat-behaviour-conference-have-a-good-time-all-the-time-how-play-and-enrichment-improve-cat-welfare/
ATTACH;FMTTYPE=image/png:https://mikeldelgado.com/wp-content/uploads/2026/03/2.png
END:VEVENT
END:VCALENDAR