BEGIN:VCALENDAR
VERSION:2.0
PRODID:-//Dr. Mikel Maria Delgado PhD - ECPv6.15.20//NONSGML v1.0//EN
CALSCALE:GREGORIAN
METHOD:PUBLISH
X-WR-CALNAME:Dr. Mikel Maria Delgado PhD
X-ORIGINAL-URL:https://mikeldelgado.com
X-WR-CALDESC:Events for Dr. Mikel Maria Delgado PhD
REFRESH-INTERVAL;VALUE=DURATION:PT1H
X-Robots-Tag:noindex
X-PUBLISHED-TTL:PT1H
BEGIN:VTIMEZONE
TZID:America/Los_Angeles
BEGIN:DAYLIGHT
TZOFFSETFROM:-0800
TZOFFSETTO:-0700
TZNAME:PDT
DTSTART:20250309T100000
END:DAYLIGHT
BEGIN:STANDARD
TZOFFSETFROM:-0700
TZOFFSETTO:-0800
TZNAME:PST
DTSTART:20251102T090000
END:STANDARD
BEGIN:DAYLIGHT
TZOFFSETFROM:-0800
TZOFFSETTO:-0700
TZNAME:PDT
DTSTART:20260308T100000
END:DAYLIGHT
BEGIN:STANDARD
TZOFFSETFROM:-0700
TZOFFSETTO:-0800
TZNAME:PST
DTSTART:20261101T090000
END:STANDARD
BEGIN:DAYLIGHT
TZOFFSETFROM:-0800
TZOFFSETTO:-0700
TZNAME:PDT
DTSTART:20270314T100000
END:DAYLIGHT
BEGIN:STANDARD
TZOFFSETFROM:-0700
TZOFFSETTO:-0800
TZNAME:PST
DTSTART:20271107T090000
END:STANDARD
END:VTIMEZONE
BEGIN:VEVENT
DTSTART;VALUE=DATE:20260424
DTEND;VALUE=DATE:20260427
DTSTAMP:20260424T024536
CREATED:20260306T200355Z
LAST-MODIFIED:20260306T201213Z
UID:11678-1776988800-1777247999@mikeldelgado.com
SUMMARY:Chronic Pain Symposium 2026: "Grumpy or Painful? How behaviour professionals can recognise and help cats in pain"
DESCRIPTION:  \n \nJoin me at this year’s Chronic Pain Symposium! I’ll be speaking on Saturday\, April 25th\, and there are tons of fabulous speakers!
URL:https://mikeldelgado.com/event/chronic-pain-symposium-2026/
ATTACH;FMTTYPE=image/jpeg:https://mikeldelgado.com/wp-content/uploads/2026/03/cps2026.jpg
END:VEVENT
END:VCALENDAR